BEGIN:VCALENDAR
VERSION:2.0
PRODID:-//https://www.weltladen-wuerzburg.de///NONSGML kigkonsult.se iCalcreator 2.10.15//
METHOD:PUBLISH
BEGIN:VEVENT
UID:20260425T164922CEST-0363914vau@https://www.weltladen-wuerzburg.de/
DTSTAMP:20260425T144922Z
DESCRIPTION:Im Rahmen der Ausstellung spricht Janneke Tiegna über aktuelle 
 Entwicklungen im Kultursektor Burkina Fasos: 21. Mai 2026 19:00 Uhr Weltla
 den Würzburg\nDer Vortrag „Kunst unter Druck: aktuelle Entwicklungen im Ku
 ltursektor Burkina Fasos' beleuchtet die Situation von Künstlerinnen und K
 ünstlern im Spannungsfeld aktueller politischer und gesellschaftlicher Her
 ausforderungen. Im Fokus stehen die Auswirkungen von Unsicherheit\, Terror
 ismus und militärischer Herrschaft auf künstlerische Arbeit und kulturelle
  Ausdrucksformen in dem westafrikanischen Binnenland. https://www.weltlade
 n-wuerzburg.de/laden/termine/event/380-vortrag-kunst-unter-druck
DTSTART:20260521T170000Z
DTEND:20260521T190000Z
LOCATION:Weltladen Würzburg (Plattnerstraße 14\, 97070 Würzburg\, Deutschla
 nd)
SUMMARY:Vortrag: Kunst unter Druck 
URL:https://www.weltladen-wuerzburg.de/laden/termine/event/380-vortrag-kuns
 t-unter-druck
END:VEVENT
END:VCALENDAR
