BEGIN:VCALENDAR
VERSION:2.0
PRODID:-//https://www.weltladen-wuerzburg.de///NONSGML kigkonsult.se iCalcreator 2.10.15//
METHOD:PUBLISH
BEGIN:VEVENT
UID:20260425T164526CEST-9203V9me0B@https://www.weltladen-wuerzburg.de/
DTSTAMP:20260425T144526Z
DESCRIPTION:\nIm Rahmen der Weltladentag-Aktionen zeigt der Weltladen Würzb
 urg den Dokumentarfilm „The Pickers“. Der Film hat eine Länge von 80 Minut
 en und begleitet Erntearbeiter*innen in Italien\, Spanien\, Griechenland u
 nd Portugal und gibt einen eindrücklichen Einblick in ihre Arbeits- und Le
 bensbedingungen hinter der europäischen Obst- und Gemüseproduktion.\nViele
  der Arbeiter*innen leben und arbeiten unter prekären Bedingungen\, oft oh
 ne ausreichende soziale Absicherung oder verlässliche Verträge. Der Film m
 acht diese Realität sichtbar und zeigt zugleich die strukturellen Zusammen
 hänge entlang der Lieferketten auf\, die solche Arbeitsbedingungen begünst
 igen.\nDie Vorführung findet in der Originalsprache mit deutschen Untertit
 eln statt. Im Anschluss besteht die Möglichkeit zum gemeinsamen Austausch 
 über die Inhalte des Films sowie über Handlungsmöglichkeiten im Alltag und
  im fairen Handel. https://www.weltladen-wuerzburg.de/laden/termine/event/
 377-filmabend-„the-pickers“
DTSTART:20260511T161500Z
DTEND:20260511T173000Z
LOCATION:Weltladen Würzburg (Plattnerstraße 14\, 97070 Würzburg\, Deutschla
 nd)
SUMMARY:Filmabend „The Pickers“
URL:https://www.weltladen-wuerzburg.de/laden/termine/event/377-filmabend-„t
 he-pickers“
END:VEVENT
END:VCALENDAR
