BEGIN:VCALENDAR
VERSION:2.0
PRODID:-//https://www.weltladen-wuerzburg.de///NONSGML kigkonsult.se iCalcreator 2.10.15//
METHOD:PUBLISH
BEGIN:VEVENT
UID:20260425T164204CEST-3851DUMF3v@https://www.weltladen-wuerzburg.de/
DTSTAMP:20260425T144204Z
DESCRIPTION:\nUnter dem Motto „Fair fruchtet!“ beteiligt sich der Weltladen
  Würzburg am Weltladentag 2026 und macht auf strukturelle Ungerechtigkeite
 n im globalen Handel mit Früchten aufmerksam. Der Weltladentag findet jede
 s Jahr am zweiten Samstag im Mai statt und wird von rund 300 Weltläden bun
 desweit genutzt\, um auf Missstände in globalen Lieferketten aufmerksam zu
  machen und faire Alternativen sichtbar zu machen.\nIm Mittelpunkt stehen 
 dabei Früchte wie Bananen\, Mangos\, Orangen oder Ananas\, deren Produktio
 n häufig mit niedrigen Löhnen\, unsicheren Arbeitsbedingungen und starkem 
 Preisdruck verbunden ist. Gleichzeitig zeigt der Faire Handel\, dass es au
 ch anders geht: mit stabileren Einkommen\, langfristigen Handelsbeziehunge
 n und mehr Transparenz entlang der Lieferkette.\nAm Aktionstag selbst lädt
  der Weltladen Würzburg zu einem vielfältigen Programm ein. Besucher*innen
  können bei interaktiven Spielen globale Handelsstrukturen spielerisch ken
 nenlernen und herausfinden\, wo Ungerechtigkeiten entstehen und wie fairer
  Handel aussehen kann. Ergänzt wird das Angebot durch Verkostungen fair ge
 handelter Früchte und Produkte sowie Informations- und Austauschmöglichkei
 ten zu Arbeitsbedingungen\, Lieferketten und Konsumentscheidungen. https:/
 /www.weltladen-wuerzburg.de/laden/termine/event/376-weltladentag-2026-fair
 -fruchtet
DTSTART:20260509T080000Z
DTEND:20260509T140000Z
LOCATION:Weltladen Würzburg (Plattnerstraße 14\, 97070 Würzburg\, Deutschla
 nd)
SUMMARY:Weltladentag 2026 - 'Fair fruchtet!'
URL:https://www.weltladen-wuerzburg.de/laden/termine/event/376-weltladentag
 -2026-fair-fruchtet
END:VEVENT
END:VCALENDAR
